BEGIN:VCALENDAR
VERSION:2.0
PRODID:-//National Institute of Business &amp; Science (NIST)
CALSCALE:GREGORIAN
METHOD:PUBLISH
X-WR-CALNAME:National Institute of Business &amp; Science (NIST)
X-ORIGINAL-URL:https://nistnatore.edu.bd/event/orientation-program-spring-2018/
X-WR-CALDESC:Orientation Program Spring 2018
BEGIN:VEVENT
DTSTART:20180514T100000
DTEND:20180514T160000
SUMMARY:Orientation Program Spring 2018
DESCRIPTION:.
LOCATION:
END:VEVENT
END:VCALENDAR
