BEGIN:VCALENDAR
VERSION:2.0
PRODID:-//National Institute of Business &amp; Science (NIST)
CALSCALE:GREGORIAN
METHOD:PUBLISH
X-WR-CALNAME:National Institute of Business &amp; Science (NIST)
X-ORIGINAL-URL:https://nistnatore.edu.bd/event/rag-day-bba-1st-batch/
X-WR-CALDESC:Rag Day CSE 1st Batch
BEGIN:VEVENT
DTSTART:20180514T100000
DTEND:20180514T170000
SUMMARY:Rag Day CSE 1st Batch
DESCRIPTION:
LOCATION:
END:VEVENT
END:VCALENDAR
